Workbook

Sheet Лист1
A1: 8 | B1: 1400 | C1: -80788.4
A2: 9 | B2: 1400 | C2: -48225 | G2: Злостные неплательщики | H2: № уч | I2: 46023 | J2: долг | O2: июнь
A3: 10 | B3: 1400 | C3: -36980 | F3: 1 | G3: положительно | H3: 8 | I3: -73788.4 | J3: ='[1]06.25'!K10 -> 0 | L3: 1 | M3: 9 | N3: =[1]свод25!I13 -> 1400 | P3: ='[1]06.25'!K11 -> 0
A4: 11 | B4: 1400 | C4: -600 | L4: 2 | M4: 10 | N4: =[1]свод25!I14 -> 1400 | P4: ='[1]06.25'!K12 -> 0
A5: 20 | B5: 1400 | C5: -1400 | J5: =SUM(J3:J4) -> 0 | L5: 3 | M5: 40 | N5: -12000 | O5: =8000+4200 -> 12200 | P5: ='[1]06.25'!K42 -> 0
A6: 29 | B6: 1400 | C6: -51486 | J6: =-J7-39 -> -39 | L6: 4 | M6: 41 | N6: 3300 | P6: ='[1]06.25'!K43 -> 0
A7: 35 | B7: 1400 | C7: -1400 | F7: 1 | G7: не проживает | H7: 29 | I7: =[1]свод25!I33 -> 1400 | J7: ='[1]06.25'!K31 -> 0 | L7: 5 | M7: 42 | N7: -63400 | O7: 1400 | P7: ='[1]06.25'!K44 -> 0
A8: 36 | B8: 1400 | C8: -94600 | F8: 2 | G8: не проживает | H8: 36 | I8: =[1]свод25!I40 -> 1300 | J8: ='[1]06.25'!K38 -> 0 | L8: 6 | M8: 73 | N8: -27161 | P8: ='[1]06.25'!K75 -> 0
A9: 41 | B9: 1400 | C9: -5420 | D9: 80 | F9: 3 | G9: не проживает | H9: 60 | I9: =[1]свод25!I65 -> 1400 | J9: ='[1]06.25'!K63 -> 0 | L9: 7 | M9: 92 | N9: =[1]свод25!I95 -> 1300 | P9: ='[1]06.25'!K93 -> 0
A10: 45 | B10: 1400 | C10: -1100 | F10: 4 | G10: не проживает | H10: 86 | I10: =[1]свод25!I90 -> 1300 | J10: ='[1]06.25'!K88 -> 0 | L10: 8 | M10: 101 | N10: =[1]свод25!I104 -> 1400 | P10: ='[1]06.25'!K102 -> 0
A11: 60 | B11: 1400 | C11: -86500 | F11: 5 | G11: не проживает | H11: 106 | I11: =[1]свод25!I109 -> 1400 | J11: ='[1]06.25'!K107 -> 0 | L11: 9 | M11: 103 | N11: =[1]свод25!I106 -> 1400 | P11: ='[1]06.25'!K104 -> 0
A12: 61 | B12: 1400 | C12: -3900 | F12: 6 | G12: не проживает | H12: 106а | I12: =[1]свод25!I110 -> 1400 | J12: ='[1]06.25'!K108 -> 0 | L12: 10 | M12: 111 | N12: 600 | P12: ='[1]06.25'!K113 -> 0
A13: 65 | B13: 1400 | C13: -1400 | F13: 7 | G13: не проживает | H13: 107 | I13: =[1]свод25!I111 -> 1300 | J13: ='[1]06.25'!K109 -> 0 | L13: 11 | M13: 114 | N13: -15800 | O13: 3000 | P13: ='[1]06.25'!K116 -> 0
A14: 73 | B14: 1400 | C14: -9600 | I14: =SUM(I3:I13) -> -64288.4 | J14: =SUM(J7:J13) -> 0 | L14: 13 | M14: 123 | N14: -51788.4 | O14: 1500 | P14: ='[1]06.25'!K125 -> 0
A15: 86 | B15: 1400 | C15: -29999.6 | L15: 13 | M15: 125 | N15: =[1]свод25!I129 -> 1300 | O15: 2400 | P15: ='[1]06.25'!K127 -> 0
A16: 92 | B16: 1400 | C16: -53750 | L16: 14 | M16: 141 | N16: =[1]свод25!I145 -> 1400 | P16: ='[1]06.25'!K143 -> 0
A17: 96 | B17: 1400 | C17: -850 | L17: 15 | M17: 151 | N17: -9650 | P17: ='[1]06.25'!K152 -> 0
A18: 101 | B18: 1400 | C18: -35035.4 | I18: =J5+J14+P18 -> 0 | O18: =SUM(O3:O17) -> 20500 | P18: =SUM(P3:P17) -> 0
A19: 102 | B19: 1400 | C19: -2875 | D19: 75
A20: 103 | B20: 1400 | C20: -16500
A21: 106 | B21: 1400 | C21: -56900
A22: 106а | B22: 1400 | C22: -16100
A23: 107 | B23: 1400 | C23: -24135.4
A24: 111 | B24: 1400 | C24: -7000
A25: 120 | B25: 1400 | C25: -700
A26: 132 | B26: 1400 | C26: -4200
A27: 141 | B27: 1400 | C27: -17200
A28: 151 | B28: 1400 | C28: -5050
A29: 158 | B29: 1400 | C29: -2875 | D29: 75
A30: 158а | B30: 1400 | C30: -900
A31: 159 | B31: 1400 | C31: -400
